BEGIN:VCALENDAR
VERSION:2.0
PRODID:-//Volunteer Connect York Region - ECPv4.8.2//NONSGML v1.0//EN
CALSCALE:GREGORIAN
METHOD:PUBLISH
X-WR-CALNAME:Volunteer Connect York Region
X-ORIGINAL-URL:https://volunteerconnect.ca
X-WR-CALDESC:Events for Volunteer Connect York Region
BEGIN:VEVENT
DTSTART;TZID=America/Toronto:20250125T100000
DTEND;TZID=America/Toronto:20250125T170000
DTSTAMP:20260424T103403
CREATED:20250113T194640Z
LAST-MODIFIED:20250113T194640Z
UID:15430-1737799200-1737824400@volunteerconnect.ca
SUMMARY:Lunar New Year Celebration @ Markham Musuem
DESCRIPTION:🐍 Celebrate Lunar New Year at Markham Museum! 🧧\nJoin us on January 25th and 26th from 10 AM to 5 PM as we welcome the Year of the Snake with an unforgettable family friendly celebration! 🎉 Explore the traditions of Lunar New Year with hands-on activities. \nEvent Details: \n🎨 Hands-On Activities \nZhezhi (Paper Folding): Explore the 2\,000-year-old art form that inspired paper-folding traditions around the world\, including Japanese origami.\nChinese Paper Cutting: Master the Tang Dynasty folk art of creating intricate designs\, including bat motifs that symbolize prosperity and blessings (Fu).\nCalligraphy: Experience the grace of Chinese calligraphy as you create characters with visual beauty and emotional resonance.\n🎲 Snake-Themed Crafts & Games \nCelebrate the Year of the Snake with creative and interactive activities for all ages.\n🀄 Mahjong \nJoin in this timeless game\, a beloved tradition in Chinese and Chinese-Canadian culture that brings families and communities closer together.\nPlus\, enjoy a variety of snake-themed crafts and games that kids and adults will love! 🐍 \n🎟️ Tickets are FREE—but donations are strongly encouraged to support future cultural programs at Markham Museum. \nDon’t miss this vibrant celebration of tradition\, creativity\, and community.  \nMarkham Museum looks forward to celebrating with you! \n
URL:https://volunteerconnect.ca/event/lunar-new-year-celebration-markham-musuem/
LOCATION:Markham Museum
END:VEVENT
END:VCALENDAR