BEGIN:VCALENDAR
VERSION:2.0
PRODID:-//Volunteer Connect York Region - ECPv4.8.2//NONSGML v1.0//EN
CALSCALE:GREGORIAN
METHOD:PUBLISH
X-WR-CALNAME:Volunteer Connect York Region
X-ORIGINAL-URL:https://volunteerconnect.ca
X-WR-CALDESC:Events for Volunteer Connect York Region
BEGIN:VEVENT
DTSTART;VALUE=DATE:20210515
DTEND;VALUE=DATE:20210701
DTSTAMP:20260426T040550
CREATED:20210609T132730Z
LAST-MODIFIED:20210609T132730Z
UID:4289-1621036800-1625097599@volunteerconnect.ca
SUMMARY:Love Your Lake
DESCRIPTION:VOLUNTEERS NEEDED: 20\nACTIVITY LEVEL: Medium Activity Level\nTIME REQUIRED: 4 hours \nWe’re recruiting volunteers from lakefront communities to take part in a Community Science project\, with the goal of picking up 100\,000 pieces of litter from the shores of Lake Ontario! \nDue to the Ontario stay-at-home order and COVID-19 restrictions\, we have adapted our Love Your Lake program (once again!) to keep everyone safe while cleaning up the Lake. Instead of running public cleanups\, our volunteers will carryout independent shoreline cleanups between May 15th and June 30th\, collecting data on all of the litter they find. \nClick here to register or learn more: https://www.agreenerfuture.ca/love-your-lake-2021 \n
URL:https://volunteerconnect.ca/event/love-your-lake/
LOCATION:119-2500 High Rise Court\, 119-2500 High Rise Court\, Oshawa\, Ontario\, L1L 0M6\, Canada
END:VEVENT
END:VCALENDAR