BEGIN:VCALENDAR
VERSION:2.0
PRODID:-//Volunteer Connect York Region - ECPv4.8.2//NONSGML v1.0//EN
CALSCALE:GREGORIAN
METHOD:PUBLISH
X-WR-CALNAME:Volunteer Connect York Region
X-ORIGINAL-URL:https://volunteerconnect.ca
X-WR-CALDESC:Events for Volunteer Connect York Region
BEGIN:VEVENT
DTSTART;TZID=America/Toronto:20200120T200000
DTEND;TZID=America/Toronto:20200120T220000
DTSTAMP:20260424T051725
CREATED:20191125T143823Z
LAST-MODIFIED:20191125T143823Z
UID:1986-1579550400-1579557600@volunteerconnect.ca
SUMMARY:LOL Markham Comedy Festival
DESCRIPTION:Join us for a round of laughs at the first annual LOL Markham Comedy Festival. \n
URL:https://volunteerconnect.ca/event/lol-markham-comedy-festival/
LOCATION:Flato Markham Theatre\, 101 Town Centre Blvd.\, Markham\, Ontario\, L3R9W3
END:VEVENT
END:VCALENDAR