BEGIN:VCALENDAR
VERSION:2.0
PRODID:-//Volunteer Connect York Region - ECPv4.8.2//NONSGML v1.0//EN
CALSCALE:GREGORIAN
METHOD:PUBLISH
X-WR-CALNAME:Volunteer Connect York Region
X-ORIGINAL-URL:https://volunteerconnect.ca
X-WR-CALDESC:Events for Volunteer Connect York Region
BEGIN:VEVENT
DTSTART;TZID=America/Toronto:20230210T183000
DTEND;TZID=America/Toronto:20230210T203000
DTSTAMP:20260424T085133
CREATED:20230206T210432Z
LAST-MODIFIED:20230206T210432Z
UID:11615-1676053800-1676061000@volunteerconnect.ca
SUMMARY:Ladies Night Out: York Region Muslims
DESCRIPTION:Join York Region Muslims for a Ladies Night Out! \nFun | Friends | Food \nFriday\, February 10\, 2023\n6:30 pm EST\nTopping Restaurant\, Richmond Hill\n1285 Elgin Mills Rd E #16\, Richmond Hill\, ON L4S 0B5 \nNote: You can order your food as you arrive using the link below and pay accordingly. \nMenu \n \nPlease help us plan better by texting to confirm your attendance.\nContact: Ruby (416-908-6127) \n
URL:https://volunteerconnect.ca/event/ladies-night-out-york-region-muslims/
LOCATION:Toppings Resteraunt\, Topping Restaurant\, Richmond Hill 1285 Elgin Mills Rd E #16\, L4S 0B5\, Richmond Hill\,\, Ontario\, L4S 0B5\, Canada
ATTACH;FMTTYPE=image/jpeg:https://volunteerconnect.ca/wp-content/uploads/2023/02/Screenshot-2023-02-06-160229.jpg
ORGANIZER;CN="York%20Region%20Muslims":MAILTO:YorkRegionMuslims@gmail.com
END:VEVENT
END:VCALENDAR