BEGIN:VCALENDAR
VERSION:2.0
PRODID:-//Volunteer Connect York Region - ECPv4.8.2//NONSGML v1.0//EN
CALSCALE:GREGORIAN
METHOD:PUBLISH
X-WR-CALNAME:Volunteer Connect York Region
X-ORIGINAL-URL:https://volunteerconnect.ca
X-WR-CALDESC:Events for Volunteer Connect York Region
BEGIN:VEVENT
DTSTART;TZID=America/Toronto:20210406T180000
DTEND;TZID=America/Toronto:20210406T200000
DTSTAMP:20260425T114443
CREATED:20210330T234601Z
LAST-MODIFIED:20210330T234621Z
UID:3563-1617732000-1617739200@volunteerconnect.ca
SUMMARY:Kiss the Ground Live Screening and Panel Discussion
DESCRIPTION:Join us for a live screening and panel discussion. \nAbout the film: \nA revolutionary group of activists\, scientists\, farmers\, and politicians band together in a global movement of “Regenerative Agriculture” that could balance our climate\, replenish our vast water supplies\, and feed the world! \nTuesday\, April 6\, 2021 \n6pm – Film Screening \n7:30 – Panel Discussion \nRegistration:  http://ow.ly/CMNv50E6zXD \nYork Region Food Network in partnership with @EcoCaledon \n
URL:https://volunteerconnect.ca/event/kiss-the-ground/
END:VEVENT
END:VCALENDAR