BEGIN:VCALENDAR
VERSION:2.0
PRODID:-//Volunteer Connect York Region - ECPv4.8.2//NONSGML v1.0//EN
CALSCALE:GREGORIAN
METHOD:PUBLISH
X-WR-CALNAME:Volunteer Connect York Region
X-ORIGINAL-URL:https://volunteerconnect.ca
X-WR-CALDESC:Events for Volunteer Connect York Region
BEGIN:VEVENT
DTSTART;VALUE=DATE:20200118
DTEND;VALUE=DATE:20200128
DTSTAMP:20260424T065650
CREATED:20200107T145014Z
LAST-MODIFIED:20200107T145014Z
UID:2151-1579305600-1580169599@volunteerconnect.ca
SUMMARY:King Square Chinese Lunar New Year Market (10 day celebration)
DESCRIPTION:King Square Chinese Lunar New Year Market\n\nSaturday January 18\, 2020 to Monday January 27\, 2020\n11:00 a.m. to 8:00 p.m. \nVenue: King Square Shopping Centre \n\n9390 Woodbine Avenue\, Markham  map\nThe 10-Days 2020 Chinese Lunar New Year Market will be held at King Square Shopping Center \nfrom January 18 to 27\, 2020 to celebrate the “2020 Year of the Rat”. This will be a lively massive\nindoor event featuring traditional cultural elements\, celebration\, arts\, unique culinary delight\,\nexhibitions booths\, vendors\, retailers\, Chinese local radio AM1430 broadcast\, lion dance and Lucky Draw.\n\n
URL:https://volunteerconnect.ca/event/king-square-chinese-lunar-new-year-market-10-day-celebration/
LOCATION:King Square Shopping Centre\, 9390 Woodbine Avenue\, Markham\, Ontario\, Canada
END:VEVENT
END:VCALENDAR