BEGIN:VCALENDAR
VERSION:2.0
PRODID:-//Volunteer Connect York Region - ECPv4.8.2//NONSGML v1.0//EN
CALSCALE:GREGORIAN
METHOD:PUBLISH
X-WR-CALNAME:Volunteer Connect York Region
X-ORIGINAL-URL:https://volunteerconnect.ca
X-WR-CALDESC:Events for Volunteer Connect York Region
BEGIN:VEVENT
DTSTART;TZID=America/Toronto:20191214T200000
DTEND;TZID=America/Toronto:20191214T220000
DTSTAMP:20260423T213906
CREATED:20191118T160448Z
LAST-MODIFIED:20191118T160448Z
UID:1937-1576353600-1576360800@volunteerconnect.ca
SUMMARY:Kindred Spirits Orchestra - Redemption
DESCRIPTION:Inspired by poetry\, Ralph Vaughan Williams’ The Lark Ascending is a velvety portrait of English countryside and melodies of bygone days. Piano prodigy Leonid Nediak takes centre stage with the colourful and jazz-flavoured Piano Concerto No. 4 by Rachmaninoff. Written in tandem to Diaghilev’s Biblical ballet The Prodigal Son\, Prokofiev’s Symphony No. 4 evokes the scriptural tones of sin and redemption. \n
URL:https://volunteerconnect.ca/event/kindred-spirits-orchestra-redemption/
LOCATION:Flato Markham Theatre\, 101 Town Centre Blvd.\, Markham\, Ontario\, L3R9W3
CATEGORIES:Events
ORGANIZER;CN="Kindred%20Spirits%20Orchestra":MAILTO:info@KSOrchestra.ca
END:VEVENT
END:VCALENDAR