BEGIN:VCALENDAR
VERSION:2.0
PRODID:-//Volunteer Connect York Region - ECPv4.8.2//NONSGML v1.0//EN
CALSCALE:GREGORIAN
METHOD:PUBLISH
X-WR-CALNAME:Volunteer Connect York Region
X-ORIGINAL-URL:https://volunteerconnect.ca
X-WR-CALDESC:Events for Volunteer Connect York Region
BEGIN:VEVENT
DTSTART;VALUE=DATE:20191105
DTEND;VALUE=DATE:20191106
DTSTAMP:20260424T051623
CREATED:20190917T140631Z
LAST-MODIFIED:20190917T140631Z
UID:1619-1572912000-1572998399@volunteerconnect.ca
SUMMARY:International Volunteer Managers Day
DESCRIPTION:Universally\, people recognize the contribution of volunteers who are involved in just about every aspect of service delivery in all walks of life. However\, volunteering does not succeed in a vacuum. That is why we celebrate International Volunteer Managers Day (IVMD) every year on November 5. \nIVMD reminds us that the spirit of volunteerism is enhanced and enabled by Volunteer Management professionals  – and for this\, they should be thanked. Just as important is the opportunity to educate others about this important work\, which is why the IVMD organizers encourage the catch phrase“Education through Celebration” when we acknowledge IVMD each year. \nWe urge you to mark your calendar and not miss this opportunity to raise awareness about the role of Volunteer management professionals. \nFor more information:   \n
URL:https://volunteerconnect.ca/event/international-volunteer-managers-day/
END:VEVENT
END:VCALENDAR