BEGIN:VCALENDAR
VERSION:2.0
PRODID:-//Volunteer Connect York Region - ECPv4.8.2//NONSGML v1.0//EN
CALSCALE:GREGORIAN
METHOD:PUBLISH
X-WR-CALNAME:Volunteer Connect York Region
X-ORIGINAL-URL:https://volunteerconnect.ca
X-WR-CALDESC:Events for Volunteer Connect York Region
BEGIN:VEVENT
DTSTART;VALUE=DATE:20191202
DTEND;VALUE=DATE:20191209
DTSTAMP:20260424T021344
CREATED:20191118T191600Z
LAST-MODIFIED:20191118T192348Z
UID:1965-1575244800-1575849599@volunteerconnect.ca
SUMMARY:International Table Tennis Federation Challenge Plus Canada Open
DESCRIPTION:December 2 – 8\, 2019\nat\nMarkham Pan Am Centre\n16 Main Street Unionville map\n\nEvent Organizer: Table Tennis Canada\n\nFor more information regarding this event\nvisit https://ttcanada.ca.\n
URL:https://volunteerconnect.ca/event/international-table-tennis-federation-challenge-plus-canada-open/2019-12-02/
LOCATION:Markham Pan Am Centre\, 16 Main Street\, Unionville\, Ontario\, Canada
END:VEVENT
END:VCALENDAR