BEGIN:VCALENDAR
VERSION:2.0
PRODID:-//Volunteer Connect York Region - ECPv4.8.2//NONSGML v1.0//EN
CALSCALE:GREGORIAN
METHOD:PUBLISH
X-WR-CALNAME:Volunteer Connect York Region
X-ORIGINAL-URL:https://volunteerconnect.ca
X-WR-CALDESC:Events for Volunteer Connect York Region
BEGIN:VEVENT
DTSTART;TZID=America/Toronto:20230225T143000
DTEND;TZID=America/Toronto:20230225T173000
DTSTAMP:20260419T151512
CREATED:20230130T183134Z
LAST-MODIFIED:20230130T183134Z
UID:11525-1677335400-1677346200@volunteerconnect.ca
SUMMARY:Indigenous Action Committee Presents: A Clothing Swap & Vendor Market
DESCRIPTION:Saturday February 25th 2023\n2:30-5:30pm \nLangstaff Community Centre- Gym A\n155 Maple Rd.\nRichmond Hill \nWinter Vendor market and clothing swap – email info@indigenousactioncommittee.com for sign up and info – limited vendor spaces \n
URL:https://volunteerconnect.ca/event/indigenous-action-committee-presents-a-clothing-swap-vendor-market/
LOCATION:Langstaff Community Centre\, 155 Red Maple Rd\, Richmond Hill\, Ontario\, L4B 4P9\, Canada
ATTACH;FMTTYPE=image/jpeg:https://volunteerconnect.ca/wp-content/uploads/2023/01/Screenshot-2023-01-30-132623.jpg
END:VEVENT
END:VCALENDAR