BEGIN:VCALENDAR
VERSION:2.0
PRODID:-//Volunteer Connect York Region - ECPv4.8.2//NONSGML v1.0//EN
CALSCALE:GREGORIAN
METHOD:PUBLISH
X-WR-CALNAME:Volunteer Connect York Region
X-ORIGINAL-URL:https://volunteerconnect.ca
X-WR-CALDESC:Events for Volunteer Connect York Region
BEGIN:VEVENT
DTSTART;TZID=America/Toronto:20240410T100000
DTEND;TZID=America/Toronto:20240410T123000
DTSTAMP:20260424T094339
CREATED:20240402T190823Z
LAST-MODIFIED:20240402T190823Z
UID:14451-1712743200-1712752200@volunteerconnect.ca
SUMMARY:ICFF Youth: Ride Above
DESCRIPTION:ICFF Youth is the annual film program of the ICFF that celebrates film as an art form. Our mission is to enrich student’s analytical and critical thinking skills while learning about the art of filmmaking. We invite you and your students to partake in our matinee screenings from April 8-13\, 2024 with a multi-lingual program at Cineplex Cinemas Yorkdale. \n An inspiring film about Zoe\, a young girl who grew up at her parent’s racehorse stable forms a special relationship with a beautiful horse name Tempest. Her dreams of becoming a Jocky like her father and riding Tempest has been stopped when an unforeseeable accident occur. \nDuration: 1h 49min \nFor Grades 6 – 10\nlocation: Cineplex Cinemas Yorkdale Mall\n3401 Dufferin St\nToronto ON M6A 2T9\nCanada\nticket website: https://docs.google.com/forms/d/e/1FAIpQLScKZyaTkpWHl4tWPujgHSlbDdpCZsznZVZHarUFTO3n-uOltg/viewform \n
URL:https://volunteerconnect.ca/event/icff-youth-ride-above-2/
LOCATION:ICFF youth\, ICFF HEADQUARTERS 101 Yorkville Ave #201\,\, toronto\, On\, M5R 1C2\, Canada
CATEGORIES:Events,Public events
ATTACH;FMTTYPE=image/png:https://volunteerconnect.ca/wp-content/uploads/2024/04/Screenshot-2024-04-02-150306.png
ORGANIZER;CN="ICFF":MAILTO:info@icff.ca
END:VEVENT
END:VCALENDAR