BEGIN:VCALENDAR
VERSION:2.0
PRODID:-//Volunteer Connect York Region - ECPv4.8.2//NONSGML v1.0//EN
CALSCALE:GREGORIAN
METHOD:PUBLISH
X-WR-CALNAME:Volunteer Connect York Region
X-ORIGINAL-URL:https://volunteerconnect.ca
X-WR-CALDESC:Events for Volunteer Connect York Region
BEGIN:VEVENT
DTSTART;VALUE=DATE:20211129
DTEND;VALUE=DATE:20211130
DTSTAMP:20260424T122657
CREATED:20211123T180232Z
LAST-MODIFIED:20211123T180232Z
UID:5564-1638144000-1638230399@volunteerconnect.ca
SUMMARY:Giving Tuesday! Nominate your Favourite Charity for a chance to WIN!
DESCRIPTION:\n\nGivingTuesday – the world’s largest generosity movement\nCanada\, join us for the 9th annual GivingTuesday on November 30\, 2021 \nGivingTuesday is a global generosity movement\, taking place each year after Black Friday. The “Opening day of the giving season\,” it’s a time when charities\, companies and individuals join together and rally for favourite causes. In the same way that retailers take part in Black Friday\, the giving community comes together for GivingTuesday. \nGivingTuesday harnesses the potential of social media and the generosity of people around the world to bring about real change in their communities; it provides a platform for them to encourage the donation of time\, resources and talents to address local challenges. It also brings together the collective power of a unique blend of partners – nonprofits\, civic organizations\, businesses and corporations\, as well as families and individuals – to encourage and amplify small acts of kindness. Across Canada and around the world\, GivingTuesday unites communities by sharing our capacity to care for and empower one another. \n\nNominate Your Favourite Charity For a Chance to WIN!*\nTo celebrate GivingTuesday\, CanadaHelps is giving you the chance to WIN $5\,000 for a charity you love!* Simply enter the name of your favourite charity by November 29th. \nThis year\, make Volunteer Markham\, your charity of choice and help us help the hundreds of organizations and the thousands of volunteer seekers in our community get connected and rebuild from Covid-19! \nNominate Now \n\n
URL:https://volunteerconnect.ca/event/giving-tuesday-nominate-your-favourite-charity-for-a-chance-to-win/
END:VEVENT
END:VCALENDAR