BEGIN:VCALENDAR
VERSION:2.0
PRODID:-//Volunteer Connect York Region - ECPv4.8.2//NONSGML v1.0//EN
CALSCALE:GREGORIAN
METHOD:PUBLISH
X-WR-CALNAME:Volunteer Connect York Region
X-ORIGINAL-URL:https://volunteerconnect.ca
X-WR-CALDESC:Events for Volunteer Connect York Region
BEGIN:VEVENT
DTSTART;TZID=America/Toronto:20230427T163000
DTEND;TZID=America/Toronto:20230427T173000
DTSTAMP:20260426T010926
CREATED:20230329T172355Z
LAST-MODIFIED:20230329T172355Z
UID:12214-1682613000-1682616600@volunteerconnect.ca
SUMMARY:Future Leaders: Newcomer leaders in Training programs for children!
DESCRIPTION:Date: April  27th- June 8th (Every Thursday)\nTime: 4:30pm-5:30pm\nLocation: Welcome Centre Richmond Hill\nAddress: South Hill Shopping Centre\, 9325 Yonge Street Richmond Hill\, ON L4c 0A8 \nFor Immigrant children ages 6-12 \nRegister at: https://docs.google.com/forms/d/e/1FAIpQLSc0dpL8zotKIdBih4LFbRXPJ9jtrORXdLhh45QjDFCXmPUBQA/viewform \nFor more information: 416-936-2620 or email karen.lee@welcomecentre.ca \n
URL:https://volunteerconnect.ca/event/future-leaders-newcomer-leaders-in-training-programs-for-children/2023-04-27/
LOCATION:welcome centre richmond hill\, (9325 Yonge St #31a\, \, ON\, Richmond Hill\, Ontario\, L4C 0A8\, Canada
ATTACH;FMTTYPE=image/jpeg:https://volunteerconnect.ca/wp-content/uploads/2023/03/Screenshot-2023-03-29-130435.jpg
END:VEVENT
END:VCALENDAR