BEGIN:VCALENDAR
VERSION:2.0
PRODID:-//Volunteer Connect York Region - ECPv4.8.2//NONSGML v1.0//EN
CALSCALE:GREGORIAN
METHOD:PUBLISH
X-WR-CALNAME:Volunteer Connect York Region
X-ORIGINAL-URL:https://volunteerconnect.ca
X-WR-CALDESC:Events for Volunteer Connect York Region
BEGIN:VEVENT
DTSTART;TZID=America/Toronto:20210412T100000
DTEND;TZID=America/Toronto:20210412T110000
DTSTAMP:20260425T201619
CREATED:20210324T150557Z
LAST-MODIFIED:20210324T150644Z
UID:3502-1618221600-1618225200@volunteerconnect.ca
SUMMARY:FREE Spring Forward Resume Series: You're a S.T.A.R.
DESCRIPTION:Spring Forward Resume Series: You’re a S.T.A.R.\n\n\n\n\nApril 12\, 2021 from 10:00am to 11:00am\n\n\n\n\nLocation\n\n\nTo register for this free webinar visit: www.jobskills.orgVirtualhttps://www.jobskills.org/upcoming-events/workshops/\, ON\n\n\n\n\n
URL:https://volunteerconnect.ca/event/free-spring-forward-resume-series-youre-a-s-t-a-r/
END:VEVENT
END:VCALENDAR