BEGIN:VCALENDAR
VERSION:2.0
PRODID:-//Volunteer Connect York Region - ECPv4.8.2//NONSGML v1.0//EN
CALSCALE:GREGORIAN
METHOD:PUBLISH
X-WR-CALNAME:Volunteer Connect York Region
X-ORIGINAL-URL:https://volunteerconnect.ca
X-WR-CALDESC:Events for Volunteer Connect York Region
BEGIN:VEVENT
DTSTART;TZID=America/Toronto:20230220T143000
DTEND;TZID=America/Toronto:20230220T153000
DTSTAMP:20260419T192753
CREATED:20230212T034133Z
LAST-MODIFIED:20230212T034133Z
UID:11723-1676903400-1676907000@volunteerconnect.ca
SUMMARY:Free Family Day Drop-In Exhibition Tours at the Varley!
DESCRIPTION:Join us on Family Day for free\, family-friendly\, tours of our current exhibitions\, “Sara Angelucci: Undergrowth” and “Field Notes”. \nTours start at 2:30 PM and 3:00 PM\nNo need to register. Just drop in! \n
URL:https://volunteerconnect.ca/event/free-family-day-drop-in-exhibition-tours-at-the-varley/
END:VEVENT
END:VCALENDAR