BEGIN:VCALENDAR
VERSION:2.0
PRODID:-//Volunteer Connect York Region - ECPv4.8.2//NONSGML v1.0//EN
CALSCALE:GREGORIAN
METHOD:PUBLISH
X-WR-CALNAME:Volunteer Connect York Region
X-ORIGINAL-URL:https://volunteerconnect.ca
X-WR-CALDESC:Events for Volunteer Connect York Region
BEGIN:VEVENT
DTSTART;TZID=America/Toronto:20210525T130000
DTEND;TZID=America/Toronto:20210525T130000
DTSTAMP:20260425T201726
CREATED:20210419T181918Z
LAST-MODIFIED:20210419T181918Z
UID:3694-1621947600-1621947600@volunteerconnect.ca
SUMMARY:First Link® Memory Café
DESCRIPTION:This program on Zoom is a collaborative program run by Mosaic Home Care and Alzheimer Society York Region for those living with memory issues and\ntheir caregivers. Here are the upcoming presentations and workshops online for the First\nLink® Memory Café featured through Zoom through Mosaic Home Care Services. \nApril\nGuided Museum Tour: “A Like Vision” by The Group of Seven at 100\nCelebrate the centenary of The Group of Seven’s first exhibition! An interactive guided tour\nby an expert McMichael Educator will provide participants the time to examine images of\nartwork up close while remaining responsibly distanced from home!\nTuesday April 27th\, 2021 from 1:00 p.m. to 2:00 p.m. \nMay\nForest Bathing with Emma Rooney\nForest bathing is a practice that originated in Japan in the 1980s to address burnout caused\nby the technological boom. Join Emma as she discusses on the benefits of forest therapy and\nguide us to try it for ourselves!\nTuesday May 25th\, 2021 from 1:00 p.m. to 2:00 p.m. \nJune\nImprove your Brain Health with Physical & Social Activities During Covid-19\nJoin us for a discussion on the latest research on improving brain health with Judy Chu.\nTuesday June 29th\, 2021 from 1:00 p.m. to 2:00 p.m. \nJuly\nPower of Attorney’s\, Wills and Elder Scams\nLawyer\, Sheldon Parker\, will lead an interactive discussion on how to designate a POA\,\nparticulars of developing a will and how to protect yourself from scams.\nTuesday July 27th\, 2021 from 1:00 p.m. to 2:00 p.m. \nTo register for all programs call our offices at 905.597.7000 or info@mosaichomecare.com or beth@mosaichomecare.com if you need more information. A Zoom link for the\nprogram will be sent once you have completed the registration. \nAdditional Details\nContact:Mosaic Home Care and Community Resource Centres\nPhone:9055977000\nWebsite:www.mosaichomecare.com\nContact Email: info@mosaichomecare.com \n
URL:https://volunteerconnect.ca/event/first-link-memory-cafe/
LOCATION:Canada
END:VEVENT
END:VCALENDAR