BEGIN:VCALENDAR
VERSION:2.0
PRODID:-//Volunteer Connect York Region - ECPv4.8.2//NONSGML v1.0//EN
CALSCALE:GREGORIAN
METHOD:PUBLISH
X-WR-CALNAME:Volunteer Connect York Region
X-ORIGINAL-URL:https://volunteerconnect.ca
X-WR-CALDESC:Events for Volunteer Connect York Region
BEGIN:VEVENT
DTSTART;TZID=America/Toronto:20210408T080000
DTEND;TZID=America/Toronto:20210408T210000
DTSTAMP:20260425T142923
CREATED:20210402T150322Z
LAST-MODIFIED:20210402T150322Z
UID:3575-1617868800-1617915600@volunteerconnect.ca
SUMMARY:Farm Boy opens its 37th location on April 8th in Richmond Hill
DESCRIPTION:Ontario’s fastest growing local fresh food retailer\, Farm Boy\, is coming to Richmond Hill with its 37th fresh market location on Thursday\, April 8th\, 2021. The 26\,725 sq. ft. location has created 135 new jobs for the community. True to the company’s roots\, this location promises to deliver local residents a unique shopping experience with an abundance of fresh\, locally sourced foods to meet their grocery list needs. \n  \n12266 Yonge Street! \nFarm Boy Richmond Hill Hours:\nMonday – Friday: 8am – 9pm\nSaturday – Sunday: 8am – 8pm \n
URL:https://volunteerconnect.ca/event/farm-boy-opens-its-37th-location-on-april-8th-in-richmond-hill/
END:VEVENT
END:VCALENDAR