BEGIN:VCALENDAR
VERSION:2.0
PRODID:-//Volunteer Connect York Region - ECPv4.8.2//NONSGML v1.0//EN
CALSCALE:GREGORIAN
METHOD:PUBLISH
X-WR-CALNAME:Volunteer Connect York Region
X-ORIGINAL-URL:https://volunteerconnect.ca
X-WR-CALDESC:Events for Volunteer Connect York Region
BEGIN:VEVENT
DTSTART;TZID=America/Toronto:20230320T100000
DTEND;TZID=America/Toronto:20230320T150000
DTSTAMP:20260420T060013
CREATED:20230217T203350Z
LAST-MODIFIED:20230217T203350Z
UID:11740-1679306400-1679324400@volunteerconnect.ca
SUMMARY:Family Literacy Day Party!
DESCRIPTION:Celebrate Family Literacy Day! Enjoy a lively performance with musician Njacko Backo\, sing along with storytime\, create art and select some books to take home! \nThis program will be available at the following open branches for Family Day: Vellore Village Branch\, Maple Branch and Pleasant Ridge Branch. All other VPL branches will remain closed for Family Day. \n
URL:https://volunteerconnect.ca/event/family-literacy-day-party/
LOCATION:Vellore Village Library\, 1 Villa Royale Ave\, Vaughan\, Ontario\, L4H 2Z7\, Canada
END:VEVENT
END:VCALENDAR