BEGIN:VCALENDAR
VERSION:2.0
PRODID:-//Volunteer Connect York Region - ECPv4.8.2//NONSGML v1.0//EN
CALSCALE:GREGORIAN
METHOD:PUBLISH
X-WR-CALNAME:Volunteer Connect York Region
X-ORIGINAL-URL:https://volunteerconnect.ca
X-WR-CALDESC:Events for Volunteer Connect York Region
BEGIN:VEVENT
DTSTART;TZID=America/Toronto:20230217T100000
DTEND;TZID=America/Toronto:20230217T160000
DTSTAMP:20260420T024314
CREATED:20230217T203627Z
LAST-MODIFIED:20230217T203627Z
UID:11743-1676628000-1676649600@volunteerconnect.ca
SUMMARY:Family Day: Mad Science Show!
DESCRIPTION:Up\, Up and Away! Learn about the principles of air pressure and how it affects the world while having fun with hot air balloons and more. For all ages.  \nVellore Village Library\n10:00 AM to 10:45 AM \nMaple Library\n12:30 PM to 1:15 PM \nPleasant Ridge Library\n3:00 PM to 3:45 PM\nThe following show will be held at Vellore Village\, Maple and Pleasant Ridge Branches. All other VPL locations will remain closed for family day.  \n
URL:https://volunteerconnect.ca/event/family-day-mad-science-show/
LOCATION:Vellore Village Library\, 1 Villa Royale Ave\, Vaughan\, Ontario\, L4H 2Z7\, Canada
END:VEVENT
END:VCALENDAR