BEGIN:VCALENDAR
VERSION:2.0
PRODID:-//Volunteer Connect York Region - ECPv4.8.2//NONSGML v1.0//EN
CALSCALE:GREGORIAN
METHOD:PUBLISH
X-WR-CALNAME:Volunteer Connect York Region
X-ORIGINAL-URL:https://volunteerconnect.ca
X-WR-CALDESC:Events for Volunteer Connect York Region
BEGIN:VEVENT
DTSTART;TZID=America/Toronto:20230220T100000
DTEND;TZID=America/Toronto:20230220T170000
DTSTAMP:20260419T205602
CREATED:20230217T201425Z
LAST-MODIFIED:20230217T201425Z
UID:11738-1676887200-1676912400@volunteerconnect.ca
SUMMARY:Family Day at Markham Museum
DESCRIPTION:There’s lots to do together on Family Day at Markham Museum! We’ll be offering a range of special activities for no additional cost to general admission\, including: \n– Markham Moves Scavenger Hunt\n– Guided Tours at 11:00 AM and 2:00 PM\n– Family Crest craft\n– Print Shop Demonstrations\n– Snowshoeing (weather permitting)\nAnd more! \nAdults (18+): $6.00\nSeniors/Students: $5.00\nChildren (2-12): $4.00\nFamily of four (Max. 2 adults): $18.00 \nInfants 24 and under get in free! \n
URL:https://volunteerconnect.ca/event/family-day-at-markham-museum/
LOCATION:Markham Museum\, 9350 Markham Road \, Markham\, Ontario\, Canada
ATTACH;FMTTYPE=image/png:https://volunteerconnect.ca/wp-content/uploads/2023/02/Museum-Family-Day-Promo.png
END:VEVENT
END:VCALENDAR