BEGIN:VCALENDAR
VERSION:2.0
PRODID:-//Volunteer Connect York Region - ECPv4.8.2//NONSGML v1.0//EN
CALSCALE:GREGORIAN
METHOD:PUBLISH
X-WR-CALNAME:Volunteer Connect York Region
X-ORIGINAL-URL:https://volunteerconnect.ca
X-WR-CALDESC:Events for Volunteer Connect York Region
BEGIN:VEVENT
DTSTART;TZID=America/Toronto:20241022T183000
DTEND;TZID=America/Toronto:20241022T200000
DTSTAMP:20260423T170112
CREATED:20241004T014045Z
LAST-MODIFIED:20241004T014045Z
UID:15226-1729621800-1729627200@volunteerconnect.ca
SUMMARY:Endometriosis Workshopp
DESCRIPTION:On Tuesday\, October 22nd from 6:30pm-8pm at Markham Village Branch Public Library there will be an FREE Endometriosis Workshop facilitated by the registered charity\, Endometriosis Events. During the workshop the co-founders will be discussing their lived experience with endometriosis\, the importance of menstrual health\, physical and mental well-being and self advocacy. Participants will also take part in art therapy session. \n
URL:https://volunteerconnect.ca/event/endometriosis-workshopp/
LOCATION:markham village branch public library\, 6031 highway 7\, Markham\, ON\, Canada
CATEGORIES:Educational events
ATTACH;FMTTYPE=image/jpeg:https://volunteerconnect.ca/wp-content/uploads/2024/10/d3f0539b-431e-4ffc-abb0-ac10ac6b7cdf.jpeg
ORGANIZER;CN="endometriosis%20events":MAILTO:Endometriosisevents@gmail.com
END:VEVENT
END:VCALENDAR