BEGIN:VCALENDAR
VERSION:2.0
PRODID:-//Volunteer Connect York Region - ECPv4.8.2//NONSGML v1.0//EN
CALSCALE:GREGORIAN
METHOD:PUBLISH
X-WR-CALNAME:Volunteer Connect York Region
X-ORIGINAL-URL:https://volunteerconnect.ca
X-WR-CALDESC:Events for Volunteer Connect York Region
BEGIN:VEVENT
DTSTART;TZID=America/Toronto:20191129T200000
DTEND;TZID=America/Toronto:20191129T220000
DTSTAMP:20260424T051628
CREATED:20191028T161803Z
LAST-MODIFIED:20191028T161803Z
UID:1887-1575057600-1575064800@volunteerconnect.ca
SUMMARY:EMILIE CLAIRE BARLOW - WINTER LIGHTS
DESCRIPTION:Emilie-Claire is back to Markham with a mix of holiday hits. Elements of both jazz and pop feature prominently in Winter Lights\, a Christmas holiday show to see a top “Canadian jazz chanteuse display an impressive vocal range.” (Latin Jazz Network). \n
URL:https://volunteerconnect.ca/event/emilie-claire-barlow-winter-lights/
LOCATION:Flato Markham Theatre\, 101 Town Centre Blvd.\, Markham\, Ontario\, L3R9W3
END:VEVENT
END:VCALENDAR