BEGIN:VCALENDAR
VERSION:2.0
PRODID:-//Volunteer Connect York Region - ECPv4.8.2//NONSGML v1.0//EN
CALSCALE:GREGORIAN
METHOD:PUBLISH
X-WR-CALNAME:Volunteer Connect York Region
X-ORIGINAL-URL:https://volunteerconnect.ca
X-WR-CALDESC:Events for Volunteer Connect York Region
BEGIN:VEVENT
DTSTART;TZID=America/Toronto:20230328T173000
DTEND;TZID=America/Toronto:20230328T193000
DTSTAMP:20260424T113141
CREATED:20230320T180913Z
LAST-MODIFIED:20230320T180913Z
UID:12104-1680024600-1680031800@volunteerconnect.ca
SUMMARY:Crock A Doodle Pottery Workshop
DESCRIPTION:For Youth 14-30 and Seniors 65+\n*Spots limited \nSelect one of two paint workshops \n1.Tuesday March 28 5:30pm-7:30pm\n2.Thursday March 30 10:0am-12:00pm \nLocation Vaughan Community Health Centre \nMust register by contacting Elisa at: 905-303-8490  EXT 2693 \n
URL:https://volunteerconnect.ca/event/crock-a-doodle-pottery-workshop/2023-03-28/
LOCATION:Vaughan Community Health Centre\, 9401 Jane Street Suite 106 in Entrance A\, Vaughan\, ontario\, Canada
ATTACH;FMTTYPE=image/jpeg:https://volunteerconnect.ca/wp-content/uploads/2023/03/Screenshot-2023-03-20-140120.jpg
END:VEVENT
END:VCALENDAR