BEGIN:VCALENDAR
VERSION:2.0
PRODID:-//Volunteer Connect York Region - ECPv4.8.2//NONSGML v1.0//EN
CALSCALE:GREGORIAN
METHOD:PUBLISH
X-WR-CALNAME:Volunteer Connect York Region
X-ORIGINAL-URL:https://volunteerconnect.ca
X-WR-CALDESC:Events for Volunteer Connect York Region
BEGIN:VEVENT
DTSTART;TZID=America/Toronto:20191221T143000
DTEND;TZID=America/Toronto:20191221T163000
DTSTAMP:20260424T033733
CREATED:20191217T174703Z
LAST-MODIFIED:20191217T174703Z
UID:2047-1576938600-1576945800@volunteerconnect.ca
SUMMARY:Countdown to Christmas
DESCRIPTION:Enjoy counting down to Christmas at the Pacific Mall!\n\nFeaturing:\n\n\nRay Anderson\, Grand Illusionist\nKobbler Jay\, Eccentric Juggler\nChristmas Songs and Dance Performances\n\n\nSaturday\, December 21\, 2019 at 2:30 p.m. \n
URL:https://volunteerconnect.ca/event/countdown-to-christmas/
LOCATION:Pacific Mall\, 4300 Steeles Avenue East\, Markham\, Ontario\, Canada
END:VEVENT
END:VCALENDAR