BEGIN:VCALENDAR
VERSION:2.0
PRODID:-//Volunteer Connect York Region - ECPv4.8.2//NONSGML v1.0//EN
CALSCALE:GREGORIAN
METHOD:PUBLISH
X-WR-CALNAME:Volunteer Connect York Region
X-ORIGINAL-URL:https://volunteerconnect.ca
X-WR-CALDESC:Events for Volunteer Connect York Region
BEGIN:VEVENT
DTSTART;TZID=America/Toronto:20230315T100000
DTEND;TZID=America/Toronto:20230315T103000
DTSTAMP:20260424T101411
CREATED:20230310T010111Z
LAST-MODIFIED:20230310T010111Z
UID:12025-1678874400-1678876200@volunteerconnect.ca
SUMMARY:Chair Yoga
DESCRIPTION:In this class\, participants will learn gentle and dynamic exercises and stretches for balance while seated and supported in a chair or on a mat. \nThis program is facilitated through Zoom. Registrants will receive an email with the Zoom link 24 hours before the program start time. \nIf you do not receive the Zoom link before the program. \nPlease note: \nThe email will be from Markham Public Library \nIt may be in your junk/spam folder. \nIf you still cannot find the email\, please contact us prior to the program start time so we can send you the link again . Please contact – mplcommunitylibrarians@markham.library.on.ca** \n
URL:https://volunteerconnect.ca/event/chair-yoga/2023-03-15/
END:VEVENT
END:VCALENDAR