BEGIN:VCALENDAR
VERSION:2.0
PRODID:-//Volunteer Connect York Region - ECPv4.8.2//NONSGML v1.0//EN
CALSCALE:GREGORIAN
METHOD:PUBLISH
X-WR-CALNAME:Volunteer Connect York Region
X-ORIGINAL-URL:https://volunteerconnect.ca
X-WR-CALDESC:Events for Volunteer Connect York Region
BEGIN:VEVENT
DTSTART;TZID=America/Toronto:20190920T183000
DTEND;TZID=America/Toronto:20190920T210000
DTSTAMP:20260424T113115
CREATED:20190911T151919Z
LAST-MODIFIED:20190911T151919Z
UID:1546-1569004200-1569013200@volunteerconnect.ca
SUMMARY:Centre for Dreams - 12th Annual Awards Evening
DESCRIPTION:Join the Centre for Dreams as they party through the Caribbean at our 12th Annual Awards’s Night on Friday September 20th\, 2019! The show begins at 6:30PM and is absolutely FREE! All are welcome to attend to celebrate and cheer on our members and community supporters. Confirm your attendance by contacting Michelle Del Carmen at michelle@centrefordreams.ca.  \n
URL:https://volunteerconnect.ca/event/centre-for-dreams-12th-annual-awards-evening/
LOCATION:The Bridge\, a Markham Community Church\, 5440 16th Avenue\, Markham\, Ontario\, L3P 3J3\, Canada
ORGANIZER;CN="Centre%20for%20Dreams":MAILTO:michelle@centrefordreams.ca
END:VEVENT
END:VCALENDAR