BEGIN:VCALENDAR
VERSION:2.0
PRODID:-//Volunteer Connect York Region - ECPv4.8.2//NONSGML v1.0//EN
CALSCALE:GREGORIAN
METHOD:PUBLISH
X-WR-CALNAME:Volunteer Connect York Region
X-ORIGINAL-URL:https://volunteerconnect.ca
X-WR-CALDESC:Events for Volunteer Connect York Region
BEGIN:VEVENT
DTSTART;VALUE=DATE:20200124
DTEND;VALUE=DATE:20200130
DTSTAMP:20260424T065409
CREATED:20200107T164611Z
LAST-MODIFIED:20200107T164611Z
UID:2216-1579824000-1580342399@volunteerconnect.ca
SUMMARY:Career Exploration Workshops
DESCRIPTION:Career Exploration Workshops\n\nChanging careers can be scary and exciting all at the same time. This workshop series will de-mystify the whole career exploration process and give you the tools that you need to make a clear career decision. The series of 4 workshops is highly recommended to be done in order\, but you can attend individual sessions as needed.\n\nFriday\, January 24\, 2020\, 9:30 a.m. – 4:00 p.m.\nCareer Exploration 1: Personality & Career Fit:\nUnclear of your career direction? Start by understanding yourself through Personality Dimensions.\n\nTuesday\, January 28\, 2020\, 9:30 a.m. – 12:00 p.m.\nCareer Exploration 2: Skills & Abilities:\nHere you’ll learn what skills and abilities you have\, which ones you want to use\, and where you need to develop.\n\nTuesday\, January 28\, 2020\, 1:00 p.m. – 4:00 p.m.\nCareer Exploration 3: Exploring Skills\, Values\, and Change:\nLearn about your perfect work environment including your key work values\, wants\, must-haves\, and work stressors. We’ll also explore the benefits and the fear of change.\n\nWednesday\, January 29\, 2020\, 1:00 p.m. – 4:00 p.m.\nCareer Exploration 4: Labour Market Research:\nThis workshop explores the ever-changing Labour Market landscape and the affects it has on our job choices. You’ll learn about and use tools\, tips and research techniques that will help you choose the best career option for you.\n\n\nLocation: Job Skills’ Markham – 4961 Highway 7\, suites 100 – 101  map\n\nhttp://jobskills.org\n\nRegister for these workshops at the front desk\, via email markhames@jobskills.org\, or call us at 905-948-9996.\n\n\n
URL:https://volunteerconnect.ca/event/career-exploration-workshops/
LOCATION:Job Skills’ Markham\, 4961 Highway 7\, suites 100 - 101 \, Markham\, Ontario\, Canada
ORGANIZER;CN="Job%20Skills":MAILTO:markhames@jobskills.org
END:VEVENT
END:VCALENDAR