BEGIN:VCALENDAR
VERSION:2.0
PRODID:-//Volunteer Connect York Region - ECPv4.8.2//NONSGML v1.0//EN
CALSCALE:GREGORIAN
METHOD:PUBLISH
X-WR-CALNAME:Volunteer Connect York Region
X-ORIGINAL-URL:https://volunteerconnect.ca
X-WR-CALDESC:Events for Volunteer Connect York Region
BEGIN:VEVENT
DTSTART;TZID=America/Toronto:20250118T110000
DTEND;TZID=America/Toronto:20250118T120000
DTSTAMP:20260423T220559
CREATED:20250116T184446Z
LAST-MODIFIED:20250116T184446Z
UID:15498-1737198000-1737201600@volunteerconnect.ca
SUMMARY:Calm Within: Learn Mantra Meditation - free class in Aurora
DESCRIPTION:Mantra Meditation calms the mind\, relieves stress and anxiety\, and enables one to experience true happiness. Together we will practice three easy and enjoyable methods of mantra meditation using breath\, beads\, and music. This ancient form of meditation is a potent tool that paves the way for genuine\, inner spiritual fulfillment.\nYou are very welcome to participate\, whether you’re a beginner or a long-time practitioner. \nWe all desire to be peaceful and happy. We can achieve this through the time-honored process of meditation. In our classes\, learn 3 forms of meditation focusing on transcendental sounds known as mantras that you will be able to practice on your own or with others. These mantras have the wonderful effect of purifying your mind of negative thoughts and emotions. You are very welcome to participate\, whether you’re a beginner or a long-time practitioner. \nThese one-hour sessions are held once a month in person. \nYou are very welcome to participate\, whether you’re a beginner or a long-time practitioner. In accordance with ancient yoga traditions\, all of our meditation classes are free of charge. \nRegistration in advance is required to attend. \nPlease register through the Aurora Library: \nhttps://aurora.bibliocommons.com/v2/events?q=calm%20within \n
URL:https://volunteerconnect.ca/event/calm-within-learn-mantra-meditation-free-class-in-aurora/2025-01-18/
LOCATION:Aurora Public Library  15145 Yonge Street Aurora\, ON L4G 1M1
END:VEVENT
END:VCALENDAR