BEGIN:VCALENDAR
VERSION:2.0
PRODID:-//Volunteer Connect York Region - ECPv4.8.2//NONSGML v1.0//EN
CALSCALE:GREGORIAN
METHOD:PUBLISH
X-WR-CALNAME:Volunteer Connect York Region
X-ORIGINAL-URL:https://volunteerconnect.ca
X-WR-CALDESC:Events for Volunteer Connect York Region
BEGIN:VEVENT
DTSTART;TZID=America/Toronto:20210507T183000
DTEND;TZID=America/Toronto:20210507T203000
DTSTAMP:20260426T043309
CREATED:20210325T151655Z
LAST-MODIFIED:20210325T151655Z
UID:3542-1620412200-1620419400@volunteerconnect.ca
SUMMARY:Break the Silence - Virtual Gala for Yellow Brick House
DESCRIPTION:Join us Friday\, May 7th to raise funds for Yellow Brick House! \nSince 1978 Yellow Brick House has been one of the largest providers in Ontario of services to women and children escaping domestic violence and abuse. We are committed to providing support services to women and children\, to empower them to live safer and healthier lives. \nThousands of women and children escaping violence and abuse turn to Yellow Brick House for life-saving safety and support. Since the start of the COVID-19 Pandemic\, Yellow Brick House has seen a 30% increase in domestic violence. \nEvery $150 raised will provide a “night of safety” in Yellow Brick House’s shelters for a woman or child escaping violence and abuse. \nPlease help us to raise critical funds by participating in our auction (coming soon!) or by Making a Donation. \nIf you have any questions please refer to the FAQs section or contact info@yellowbrickhouse.org. \nIf you are experiencing violence or abuse\, call or text our 24/7 Crisis & Support Lines: 1-800-263-3247 \nClick here for additional information \n
URL:https://volunteerconnect.ca/event/break-the-silence-virtual-gala-for-yellow-brick-house/
END:VEVENT
END:VCALENDAR