BEGIN:VCALENDAR
VERSION:2.0
PRODID:-//Volunteer Connect York Region - ECPv4.8.2//NONSGML v1.0//EN
CALSCALE:GREGORIAN
METHOD:PUBLISH
X-WR-CALNAME:Volunteer Connect York Region
X-ORIGINAL-URL:https://volunteerconnect.ca
X-WR-CALDESC:Events for Volunteer Connect York Region
BEGIN:VEVENT
DTSTART;TZID=America/Toronto:20211203T170000
DTEND;TZID=America/Toronto:20211203T213000
DTSTAMP:20260424T020700
CREATED:20211110T164758Z
LAST-MODIFIED:20211110T164758Z
UID:5444-1638550800-1638567000@volunteerconnect.ca
SUMMARY:Aurora's Christmas Market
DESCRIPTION:\n\nCheck out one of the Top 100 Festivals and Events in Ontario! Aurora’s Christmas Market will be filled with good cheer\, hands-on virtual workshops and activities\, fantastic seasonal vendors and so much more! \n\nHOW MUCH\n\nTickets: Free\, Register online for timed tickets \nBuy Online \n\nWHEN & WHERE\n\nDate & Time: \n\nFriday\, December 3 to Sunday\, December 5\, 2021\nFriday\, December 10 to Sunday\, December 12\, 2021 \nFriday – Sunday | 5:00 PM – 9:30 PM \n\n\nVenue:Aurora Town Park\, 49 Wells Street\, Aurora \n\n\n\n\n\n\n\n\n\n\n\n\n
URL:https://volunteerconnect.ca/event/auroras-christmas-market/2021-12-03/
END:VEVENT
END:VCALENDAR