BEGIN:VCALENDAR
VERSION:2.0
PRODID:-//Volunteer Connect York Region - ECPv4.8.2//NONSGML v1.0//EN
CALSCALE:GREGORIAN
METHOD:PUBLISH
X-WR-CALNAME:Volunteer Connect York Region
X-ORIGINAL-URL:https://volunteerconnect.ca
X-WR-CALDESC:Events for Volunteer Connect York Region
BEGIN:VEVENT
DTSTART;VALUE=DATE:20210921
DTEND;VALUE=DATE:20211028
DTSTAMP:20260425T155035
CREATED:20210922T173019Z
LAST-MODIFIED:20210922T173019Z
UID:5072-1632182400-1635379199@volunteerconnect.ca
SUMMARY:Art Therapy for Seniors
DESCRIPTION:The Markham Arts Council is currently accepting registrations for their next session of art therapy classes. \nThese sessions will be offered virtually and led by a registered art therapist. Participants will express\, explore and understand their emotions through a variety of art mediums. \nLimited spots are still available. You can learn more about the classes and register for these free sessions here. \n
URL:https://volunteerconnect.ca/event/art-therapy-for-seniors-2/
LOCATION:McKay Art Centre 197 Main St Unionville\, Markham L3R 2G8\, McKay Art Centre 197 Main St Unionville\, Markham\, ON\, L3R 2G8
CATEGORIES:Events
ATTACH;FMTTYPE=image/jpeg:https://volunteerconnect.ca/wp-content/uploads/2021/09/unnamed-2-3.jpg
ORGANIZER;CN="markham%20council":MAILTO:info@markhamartscouncil.com
END:VEVENT
END:VCALENDAR