BEGIN:VCALENDAR
VERSION:2.0
PRODID:-//Volunteer Connect York Region - ECPv4.8.2//NONSGML v1.0//EN
CALSCALE:GREGORIAN
METHOD:PUBLISH
X-WR-CALNAME:Volunteer Connect York Region
X-ORIGINAL-URL:https://volunteerconnect.ca
X-WR-CALDESC:Events for Volunteer Connect York Region
BEGIN:VEVENT
DTSTART;TZID=America/Toronto:20250125T100000
DTEND;TZID=America/Toronto:20250125T110000
DTSTAMP:20260424T115813
CREATED:20250116T182307Z
LAST-MODIFIED:20250116T182307Z
UID:15480-1737799200-1737802800@volunteerconnect.ca
SUMMARY:Anti-Bullying KEVA Workshop
DESCRIPTION:Join our 6-week Anti-Bullying Workshop for children and teens! Through interactive KEVA building activities\, participants will learn the importance of teamwork\, empathy\, and respect while developing essential social skills. This engaging and hands-on program promotes anti-bullying awareness in a fun and creative way\, empowering youth to build stronger\, more inclusive communities. \n
URL:https://volunteerconnect.ca/event/anti-bullying-keva-workshop/2025-01-25/
LOCATION:Aaniin Community Centre  5665 14th Avenue Markham\, ON L3S 3K5
END:VEVENT
END:VCALENDAR