BEGIN:VCALENDAR
VERSION:2.0
PRODID:-//Volunteer Connect York Region - ECPv4.8.2//NONSGML v1.0//EN
CALSCALE:GREGORIAN
METHOD:PUBLISH
X-WR-CALNAME:Volunteer Connect York Region
X-ORIGINAL-URL:https://volunteerconnect.ca
X-WR-CALDESC:Events for Volunteer Connect York Region
BEGIN:VEVENT
DTSTART;TZID=America/Toronto:20230504T183000
DTEND;TZID=America/Toronto:20230504T203000
DTSTAMP:20260426T023931
CREATED:20230501T205759Z
LAST-MODIFIED:20230501T205759Z
UID:12486-1683225000-1683232200@volunteerconnect.ca
SUMMARY:An evening with Dr Andrew Campbell - Talking to your children about Racism
DESCRIPTION:Dr Andrew Campbell (Dr. ABC) will engage with families and community members about speaking to children about racism \n
URL:https://volunteerconnect.ca/event/an-evening-with-dr-andrew-campbell-talking-to-your-children-about-racism/
LOCATION:Langstaff Secondary School\, 106 Garden Avenue\, richmond hill\, on\, L4C 6M1\, Canada
CATEGORIES:Educational events,Informational events
END:VEVENT
END:VCALENDAR