BEGIN:VCALENDAR
VERSION:2.0
PRODID:-//Volunteer Connect York Region - ECPv4.8.2//NONSGML v1.0//EN
CALSCALE:GREGORIAN
METHOD:PUBLISH
X-WR-CALNAME:Volunteer Connect York Region
X-ORIGINAL-URL:https://volunteerconnect.ca
X-WR-CALDESC:Events for Volunteer Connect York Region
BEGIN:VEVENT
DTSTART;TZID=America/Toronto:20210408T100000
DTEND;TZID=America/Toronto:20210429T120000
DTSTAMP:20260425T160803
CREATED:20210419T181000Z
LAST-MODIFIED:20210419T181000Z
UID:3746-1617876000-1619697600@volunteerconnect.ca
SUMMARY:ACE YOUR VIRTUAL INTERVIEW
DESCRIPTION:ACE YOUR VIRTUAL INTERVIEW: The Interview is key to getting a job. During these challenging times\, how we interview has changed. Discover how to handle challenging interview questions with confidence; learn how to collect\, compile and present information that showcases your skills and experience; find out the common mistakes that happen in interviews and how to avoid them. April 8\, 15\, 22 & 29 \nThe event organizer is providing tickets for this event via an external ticket provider. Please click the link below to obtain tickets. \n
URL:https://volunteerconnect.ca/event/ace-your-virtual-interview/2021-04-08/
LOCATION:Canada
ORGANIZER;CN="COSTI%20Employment%20Services":MAILTO:vaughanemployment@costi.org
END:VEVENT
END:VCALENDAR