BEGIN:VCALENDAR
VERSION:2.0
PRODID:-//Volunteer Connect York Region - ECPv4.8.2//NONSGML v1.0//EN
CALSCALE:GREGORIAN
METHOD:PUBLISH
X-WR-CALNAME:Volunteer Connect York Region
X-ORIGINAL-URL:https://volunteerconnect.ca
X-WR-CALDESC:Events for Volunteer Connect York Region
BEGIN:VEVENT
DTSTART;TZID=America/Toronto:20230218T110000
DTEND;TZID=America/Toronto:20230218T150000
DTSTAMP:20260419T233835
CREATED:20230201T144556Z
LAST-MODIFIED:20230201T144556Z
UID:11554-1676718000-1676732400@volunteerconnect.ca
SUMMARY:6th Annual Black History Month Celebration- YRAACC
DESCRIPTION:York Region Alliance of African Communities Presents their 6th annual Black History Month Celebration \n2023 Black History Month Event – YRAACC\nTo empower York Region’s Black community to study their past\, thrive in the present\, and help define their future. \nAbout this Event: \nOur theme this year is: Harambee (Pulling together for stronger Black community). \nCome join us to empower York Region’s Black community to study their past\, thrive in the present\, and help define their future. \nEvent Details: \n• Date: Saturday\, February 18\, 2023 \n• Time: 11:00 am – 3:00 pm \n• Location: 933 Bur Oak secondary school\, Markham\, ON L6E 1G4 \nGuest Speaker: Dr. Camille Logan – Doctor of philosophy PhD. Education\, \n• Associate Director\, School Improvement and Equity in the Peel District school board. \n• She has three decades dedicated to educational experience. \n• She is committed to grassroots community-based activity through her involvement with Black community organizations across the GTA. \nAgenda: \n• Drumming \n• Food and entertainment \n• Breakout room sessions \n• Black marketplace & much more \nWe are looking forward to seeing you\, having fun and celebrating our history and culture. \nPlease share the event with your network. \nIf you have any questions\, please send an email to info@yorkregionaacc.ca or call (647) 280-9879. \n
URL:https://volunteerconnect.ca/event/6th-annual-black-history-month-celebration-yraacc-2/
LOCATION:Bur Oak Secondary School\, 933 Bur Oak Avenue\, Markham\, Ontario\, L6E 1G4\, Canada
ATTACH;FMTTYPE=image/jpeg:https://volunteerconnect.ca/wp-content/uploads/2023/02/Screenshot-2023-02-01-094017-1.jpg
ORGANIZER;CN="York%20Region%20Alliance%20of%20African%20Canadian%20Communities%20%28YRAACC%29":MAILTO:info@yorkregionaacc.ca
END:VEVENT
END:VCALENDAR