BEGIN:VCALENDAR
VERSION:2.0
PRODID:-//Volunteer Connect York Region - ECPv4.8.2//NONSGML v1.0//EN
CALSCALE:GREGORIAN
METHOD:PUBLISH
X-WR-CALNAME:Volunteer Connect York Region
X-ORIGINAL-URL:https://volunteerconnect.ca
X-WR-CALDESC:Events for Volunteer Connect York Region
BEGIN:VEVENT
DTSTART;TZID=America/Toronto:20250501T183000
DTEND;TZID=America/Toronto:20250501T203000
DTSTAMP:20260424T020908
CREATED:20250415T183417Z
LAST-MODIFIED:20250415T183417Z
UID:15653-1746124200-1746131400@volunteerconnect.ca
SUMMARY:4-Part Series: Foundations of Entrepreneurship - Building Your Business from the Ground Up
DESCRIPTION:Want to start your business but don’t know where to start? Let’s learn from an expert!  \nThis is a four-part series taught by industry expert\, David Cohen\, a professional sales master and founder of Your Big Venture. Within four Thursdays from May 1 to May 22\, it will equips aspiring entrepreneurs with the essential tools to launch a successful business. Participants will learn how to craft a business plan\, conduct market research\, create a marketing and sales strategy\, and develop an operations and financial plan through four focused sessions. Please see below for a detailed breakdown of each weekly session.  \nThursdays May 1 – May 22\, 2025  \nTime: 6:30 PM – 8:30 PM  \nResident fee: $80 for 4 sessions  \n
URL:https://volunteerconnect.ca/event/4-part-series-foundations-of-entrepreneurship-building-your-business-from-the-ground-up/2025-05-01/
LOCATION:Online
CATEGORIES:Educational events
ATTACH;FMTTYPE=image/png:https://volunteerconnect.ca/wp-content/uploads/2025/04/4-Part-Series-Foundations-of-Entrepreneurship-Poster-1-page-0.png
END:VEVENT
END:VCALENDAR