BEGIN:VCALENDAR
VERSION:2.0
PRODID:-//Volunteer Connect York Region - ECPv4.8.2//NONSGML v1.0//EN
CALSCALE:GREGORIAN
METHOD:PUBLISH
X-WR-CALNAME:Volunteer Connect York Region
X-ORIGINAL-URL:https://volunteerconnect.ca
X-WR-CALDESC:Events for Volunteer Connect York Region
BEGIN:VEVENT
DTSTART;TZID=America/Toronto:20250125T100000
DTEND;TZID=America/Toronto:20250125T120000
DTSTAMP:20260424T090810
CREATED:20250113T194336Z
LAST-MODIFIED:20250113T194336Z
UID:15428-1737799200-1737806400@volunteerconnect.ca
SUMMARY:2025 YCPIC Winter Social
DESCRIPTION:Catholic School Council Social \nJoin at the YCDSB Catholic Education Centre! Our York Catholic Parent Involvment Committee (YCPIC) is hosting a social event where all Catholic School Council members\, can come together for an informal discussion\, to strengthen our school community. This in-person event will be a great opportunity to connect and dialogue with other Catholic School Councils. \n
URL:https://volunteerconnect.ca/event/2025-ycpic-winter-social/
LOCATION:YCDSB Catholic Education Centre\, 320 Bloomington Road West\, Aurora
END:VEVENT
END:VCALENDAR